BEGIN:VCALENDAR
VERSION:2.0
PRODID:spatie/icalendar-generator
DESCRIPTION:Events from Parroquia Castrense de Melilla
X-WR-CALDESC:Events from Parroquia Castrense de Melilla
REFRESH-INTERVAL;VALUE=DURATION:PT1440M
X-PUBLISHED-TTL:PT1440M
BEGIN:VTIMEZONE
TZID:Etc/GMT+0
BEGIN:STANDARD
DTSTART:20230520T193000Z
TZOFFSETFROM:+0000
TZOFFSETTO:+0000
END:STANDARD
END:VTIMEZONE
BEGIN:VTIMEZONE
TZID:UTC
BEGIN:STANDARD
DTSTART:20250725T103008Z
TZOFFSETFROM:+0000
TZOFFSETTO:+0000
END:STANDARD
END:VTIMEZONE
BEGIN:VEVENT
UID:133-133
DTSTAMP:20260421T103008Z
SUMMARY:1er Día de Triduo
LOCATION:Parroquia Castrense de Melilla Pablo Vallesca 4  Melilla Melilla 5
 2001
ORGANIZER;CN=Parroquia Castrense:MAILTO:parroquiacastrensedemelilla@gmail.c
 om
DTSTART;TZID=Etc/GMT+0:20240214T193000
DTEND;TZID=Etc/GMT+0:20240214T200000
X-ALT-DESC;FMTTYPE=TEXT/HTML:
CATEGORIES:Eventos,  Liturgia
URL;VALUE=URI:https://parroquiacastrensemelilla.es/mc-events/1er-dia-de-tri
 duo/
METHOD:PUBLISH
END:VEVENT
END:VCALENDAR