BEGIN:VCALENDAR
VERSION:2.0
PRODID:spatie/icalendar-generator
DESCRIPTION:Events from Parroquia Castrense de Melilla
X-WR-CALDESC:Events from Parroquia Castrense de Melilla
REFRESH-INTERVAL;VALUE=DURATION:PT1440M
X-PUBLISHED-TTL:PT1440M
BEGIN:VTIMEZONE
TZID:Etc/GMT+0
BEGIN:STANDARD
DTSTART:20240411T123000Z
TZOFFSETFROM:+0000
TZOFFSETTO:+0000
END:STANDARD
END:VTIMEZONE
BEGIN:VTIMEZONE
TZID:UTC
BEGIN:STANDARD
DTSTART:20250726T155056Z
TZOFFSETFROM:+0000
TZOFFSETTO:+0000
END:STANDARD
END:VTIMEZONE
BEGIN:VEVENT
UID:243-147
DTSTAMP:20260422T155056Z
SUMMARY:✨🎉 Misa de Reyes\, no te lo pierdas 🎉✨
LOCATION:Parroquia Castrense de Melilla Pablo Vallesca 4  Melilla Melilla 5
 2001
ORGANIZER;CN=Parroquia Castrense:MAILTO:parroquiacastrensedemelilla@gmail.c
 om
DTSTART;TZID=Etc/GMT+0:20250106T123000
DTEND;TZID=Etc/GMT+0:20250106T133000
X-ALT-DESC;FMTTYPE=TEXT/HTML:Este lunes\, 6 de enero\, celebra con nosotros
  el Día de Reyes en la Parroquia Castrense de Melilla. 🎁✨ 12:30 h - 
 Misa musicalizada: Una celebración especial llena de villancicos\, cantos
  y un ambiente de alegría que nos une como comunidad. 19:30 h - Misa de R
 eyes: Una oportunidad para agradecer\, reflexionar y compartir juntos&amp;hell
 ip\;
CATEGORIES:Liturgia,  Misas
URL;VALUE=URI:https://parroquiacastrensemelilla.es/mc-events/%e2%9c%a8%f0%9
 f%8e%89-misa-de-reyes-no-te-lo-pierdas-%f0%9f%8e%89%e2%9c%a8/
METHOD:PUBLISH
END:VEVENT
END:VCALENDAR