BEGIN:VCALENDAR
VERSION:2.0
PRODID:spatie/icalendar-generator
DESCRIPTION:Events from Parroquia Castrense de Melilla
X-WR-CALDESC:Events from Parroquia Castrense de Melilla
REFRESH-INTERVAL;VALUE=DURATION:PT1440M
X-PUBLISHED-TTL:PT1440M
BEGIN:VTIMEZONE
TZID:Etc/GMT+0
BEGIN:STANDARD
DTSTART:20240801T193000Z
TZOFFSETFROM:+0000
TZOFFSETTO:+0000
END:STANDARD
END:VTIMEZONE
BEGIN:VTIMEZONE
TZID:UTC
BEGIN:STANDARD
DTSTART:20250725T145017Z
TZOFFSETFROM:+0000
TZOFFSETTO:+0000
END:STANDARD
END:VTIMEZONE
BEGIN:VEVENT
UID:363-175
DTSTAMP:20260421T145017Z
SUMMARY:Misa diaria y mensual de acción de Gracias San Judas Tadeo
LOCATION:Parroquia Castrense de Melilla Pablo Vallesca 4  Melilla Melilla 5
 2001
ORGANIZER;CN=Parroquia Castrense:MAILTO:parroquiacastrensedemelilla@gmail.c
 om
RRULE:FREQ=MONTHLY;BYMONTHDAY=28;UNTIL=20251231T000000Z
DTSTART;TZID=Etc/GMT+0:20250428T193000
DTEND;TZID=Etc/GMT+0:20250428T203000
X-ALT-DESC;FMTTYPE=TEXT/HTML:El próximo 28 se celebrará una Misa en hono
 r a San Judas Tadeo en la Parroquia Castrense de Melilla. Este evento ser
 á una oportunidad para expresar nuestra devoción y fortalecer nuestra fe
  en uno de los santos más venerados. Además en la Misa\, nos acompañar
 á la nueva imagen de San Judas Tadeo en nuestro templo. Esta&amp;hellip\;
CATEGORIES:Eventos
URL;VALUE=URI:https://parroquiacastrensemelilla.es/mc-events/misa-diaria-y-
 mensual-de-accion-de-gracias-san-judas-tadeo/?mc_id=363
METHOD:PUBLISH
END:VEVENT
END:VCALENDAR