BEGIN:VCALENDAR
VERSION:2.0
PRODID:spatie/icalendar-generator
DESCRIPTION:Events from Parroquia Castrense de Melilla
X-WR-CALDESC:Events from Parroquia Castrense de Melilla
REFRESH-INTERVAL;VALUE=DURATION:PT1440M
X-PUBLISHED-TTL:PT1440M
BEGIN:VTIMEZONE
TZID:Etc/GMT+0
BEGIN:STANDARD
DTSTART:20240608T193000Z
TZOFFSETFROM:+0000
TZOFFSETTO:+0000
END:STANDARD
END:VTIMEZONE
BEGIN:VTIMEZONE
TZID:UTC
BEGIN:STANDARD
DTSTART:20250726T184604Z
TZOFFSETFROM:+0000
TZOFFSETTO:+0000
END:STANDARD
END:VTIMEZONE
BEGIN:VEVENT
UID:782-183
DTSTAMP:20260422T184604Z
SUMMARY:I Triduo a Nuestro Padre Jesús Humillado
LOCATION:Parroquia Castrense de Melilla Pablo Vallesca 4  Melilla Melilla 5
 2001
ORGANIZER;CN=Parroquia Castrense:MAILTO:parroquiacastrensedemelilla@gmail.c
 om
DTSTART;TZID=Etc/GMT+0:20250305T193000
DTEND;TZID=Etc/GMT+0:20250305T203000
X-ALT-DESC;FMTTYPE=TEXT/HTML:📅 Mañana | 🕊️ I Día del Triduo a Nue
 stro Padre Jesús Humillado🎶 Contaremos con la música del grupo E-voca
 re.🕢 Hora: 19:30h📍 Lugar: Parroquia Castrense de Melilla ¡Acompáñ
 anos en este momento de oración y devoción! 🙏✨
CATEGORIES:Eventos
URL;VALUE=URI:https://parroquiacastrensemelilla.es/mc-events/i-triduo-a-nue
 stro-padre-jesus-humillado/
METHOD:PUBLISH
END:VEVENT
END:VCALENDAR