BEGIN:VCALENDAR
VERSION:2.0
PRODID:spatie/icalendar-generator
DESCRIPTION:Events from Parroquia Castrense de Melilla
X-WR-CALDESC:Events from Parroquia Castrense de Melilla
REFRESH-INTERVAL;VALUE=DURATION:PT1440M
X-PUBLISHED-TTL:PT1440M
BEGIN:VTIMEZONE
TZID:Etc/GMT+0
BEGIN:STANDARD
DTSTART:20240125T183000Z
TZOFFSETFROM:+0000
TZOFFSETTO:+0000
END:STANDARD
END:VTIMEZONE
BEGIN:VTIMEZONE
TZID:UTC
BEGIN:STANDARD
DTSTART:20250727T134549Z
TZOFFSETFROM:+0000
TZOFFSETTO:+0000
END:STANDARD
END:VTIMEZONE
BEGIN:VEVENT
UID:99-99
DTSTAMP:20260423T134549Z
SUMMARY:Formación Cofrade Y Exposición del Santísimo Sacramento 21 novie
 mbre
LOCATION:Parroquia Castrense de Melilla Pablo Vallesca 4  Melilla Melilla 5
 2001
ORGANIZER;CN=Parroquia Castrense:MAILTO:parroquiacastrensedemelilla@gmail.c
 om
DTSTART;TZID=Etc/GMT+0:20241021T183000
DTEND;TZID=Etc/GMT+0:20241021T193000
X-ALT-DESC;FMTTYPE=TEXT/HTML:🙏 Te invitamos a participar en la Exposici
 ón del Santísimo Sacramento. Ven a compartir un tiempo de adoración y r
 ecogimiento espiritual en presencia del Santísimo. Es una ocasión perfec
 ta para la reflexión y la oración. ¡No faltes!
CATEGORIES:Eventos
URL;VALUE=URI:https://parroquiacastrensemelilla.es/mc-events/formacion-cofr
 ade-y-exposicion-del-santisimo-sacramento-21-noviembre/
METHOD:PUBLISH
END:VEVENT
END:VCALENDAR