BEGIN:VCALENDAR
VERSION:2.0
PRODID:spatie/icalendar-generator
DESCRIPTION:Events from Parroquia Castrense de Melilla
X-WR-CALDESC:Events from Parroquia Castrense de Melilla
REFRESH-INTERVAL;VALUE=DURATION:PT1440M
X-PUBLISHED-TTL:PT1440M
BEGIN:VTIMEZONE
TZID:Etc/GMT+0
BEGIN:STANDARD
DTSTART:20240129T000000Z
TZOFFSETFROM:+0000
TZOFFSETTO:+0000
END:STANDARD
END:VTIMEZONE
BEGIN:VTIMEZONE
TZID:UTC
BEGIN:STANDARD
DTSTART:20250725T115733Z
TZOFFSETFROM:+0000
TZOFFSETTO:+0000
END:STANDARD
END:VTIMEZONE
BEGIN:VEVENT
UID:123-123
DTSTAMP:20260421T115733Z
SUMMARY:Triduo a San Judas Tadeo
LOCATION:Parroquia Castrense de Melilla Pablo Vallesca 4  Melilla Melilla 5
 2001
ORGANIZER;CN=Parroquia Castrense:MAILTO:parroquiacastrensedemelilla@gmail.c
 om
DTSTART;TZID=Etc/GMT+0;VALUE=DATE:20241025
DTEND;TZID=Etc/GMT+0;VALUE=DATE:20241029
X-ALT-DESC;FMTTYPE=TEXT/HTML:<p>La Parroquia Castrense de Melilla te invita
  a participar en el Triduo en honor a San Judas Tadeo\, patrón de las cau
 sas difíciles y desesperadas. Durante estos días especiales\, dedicaremo
 s nuestra oración y reflexión a este apóstol\, conocido por su interces
 ión en situaciones que parecen no tener solución. Acompáñanos en esta 
 celebración llena de fe\, esperanza y devoción.</p>\n
CATEGORIES:Eventos,  Liturgia
URL;VALUE=URI:https://parroquiacastrensemelilla.es/mc-events/triduo-a-san-j
 udas-tadeo/
METHOD:PUBLISH
END:VEVENT
END:VCALENDAR