BEGIN:VCALENDAR
VERSION:2.0
PRODID:spatie/icalendar-generator
DESCRIPTION:Events from Parroquia Castrense de Melilla
X-WR-CALDESC:Events from Parroquia Castrense de Melilla
REFRESH-INTERVAL;VALUE=DURATION:PT1440M
X-PUBLISHED-TTL:PT1440M
BEGIN:VTIMEZONE
TZID:Etc/GMT+0
BEGIN:STANDARD
DTSTART:20231211T203000Z
TZOFFSETFROM:+0000
TZOFFSETTO:+0000
END:STANDARD
END:VTIMEZONE
BEGIN:VTIMEZONE
TZID:UTC
BEGIN:STANDARD
DTSTART:20250725T152627Z
TZOFFSETFROM:+0000
TZOFFSETTO:+0000
END:STANDARD
END:VTIMEZONE
BEGIN:VEVENT
UID:29-29
DTSTAMP:20260421T152627Z
SUMMARY:Ofrenda a la Virgen de la Victoria
LOCATION:Iglesia del Sagrado Corazón de Melilla
ORGANIZER;CN=Parroquia Castrense:MAILTO:parroquiacastrensedemelilla@gmail.c
 om
DTSTART;TZID=Etc/GMT+0:20240906T203000
DTEND;TZID=Etc/GMT+0:20240906T213000
X-ALT-DESC;FMTTYPE=TEXT/HTML:<p>El próximo 6 de septiembre\, la Parroquia 
 Castrense realizará una ofrenda a la Virgen de la Victoria en el Sagrado 
 Corazón de Melilla a las 20:30h. Invitamos a toda la comunidad a particip
 ar en este acto de devoción y agradecimiento a nuestra patrona.</p>\n
CATEGORIES:Eventos,  Liturgia
URL;VALUE=URI:https://parroquiacastrensemelilla.es/mc-events/ofrenda-a-la-v
 irgen-de-la-victoria/
METHOD:PUBLISH
END:VEVENT
END:VCALENDAR