BEGIN:VCALENDAR
VERSION:2.0
PRODID:spatie/icalendar-generator
DESCRIPTION:Events from Parroquia Castrense de Melilla
X-WR-CALDESC:Events from Parroquia Castrense de Melilla
REFRESH-INTERVAL;VALUE=DURATION:PT1440M
X-PUBLISHED-TTL:PT1440M
BEGIN:VTIMEZONE
TZID:Etc/GMT+0
BEGIN:STANDARD
DTSTART:20230424T203000Z
TZOFFSETFROM:+0000
TZOFFSETTO:+0000
END:STANDARD
END:VTIMEZONE
BEGIN:VTIMEZONE
TZID:UTC
BEGIN:STANDARD
DTSTART:20250723T145040Z
TZOFFSETFROM:+0000
TZOFFSETTO:+0000
END:STANDARD
END:VTIMEZONE
BEGIN:VEVENT
UID:37-37
DTSTAMP:20260419T145040Z
SUMMARY:Jornada mensual de formación con el Santísimo presente en la form
 ación.
LOCATION:
ORGANIZER;CN=Parroquia Castrense:MAILTO:parroquiacastrensedemelilla@gmail.c
 om
DTSTART;TZID=Etc/GMT+0:20240119T203000
DTEND;TZID=Etc/GMT+0:20240119T213000
X-ALT-DESC;FMTTYPE=TEXT/HTML:El pasado 19 de enero celebramos la jornada me
 nsual de formación con el Santísimo presente en la formación. Aquí os 
 dejamos unas imágenes de cómo discurrió la jornada. http://celebramos l
 a jornada mensual de formación con el Santísimo presente en la formació
 n. Aquí os dejamos unas imágenes de cómo discurrió la jornada.
CATEGORIES:Eventos
URL;VALUE=URI:https://parroquiacastrensemelilla.es/mc-events/jornada-mensua
 l-de-formacion-con-el-santisimo-presente-en-la-formacion/
METHOD:PUBLISH
END:VEVENT
END:VCALENDAR