BEGIN:VCALENDAR
VERSION:2.0
PRODID:spatie/icalendar-generator
DESCRIPTION:Events from Parroquia Castrense de Melilla
X-WR-CALDESC:Events from Parroquia Castrense de Melilla
REFRESH-INTERVAL;VALUE=DURATION:PT1440M
X-PUBLISHED-TTL:PT1440M
BEGIN:VTIMEZONE
TZID:Etc/GMT+0
BEGIN:STANDARD
DTSTART:20250206T121500Z
TZOFFSETFROM:+0000
TZOFFSETTO:+0000
END:STANDARD
END:VTIMEZONE
BEGIN:VTIMEZONE
TZID:UTC
BEGIN:STANDARD
DTSTART:20250724T202314Z
TZOFFSETFROM:+0000
TZOFFSETTO:+0000
END:STANDARD
END:VTIMEZONE
BEGIN:VEVENT
UID:4794-279
DTSTAMP:20260420T202314Z
SUMMARY:Responsos Caídos
LOCATION:Cementerio
ORGANIZER;CN=Parroquia Castrense:MAILTO:parroquiacastrensedemelilla@gmail.c
 om
DTSTART;TZID=Etc/GMT+0:20251103T121500
DTEND;TZID=Etc/GMT+0:20251103T131500
X-ALT-DESC;FMTTYPE=TEXT/HTML:🕊️ Responsos por los Caídos ✝️ Hoy 3
  de noviembre\, la Parroquia Castrense de Melilla celebrará los Responsos
  por los Caídos en el Cementerio Municipal\, a partir de las 12:15 h. Un 
 acto de oración y recuerdo por todos los difuntos\, especialmente por aqu
 ellos que entregaron su vida en servicio a los demás. Que nuestra&amp;hellip\
 ;
CATEGORIES:Eventos
URL;VALUE=URI:https://parroquiacastrensemelilla.es/mc-events/responsos-caid
 os/
METHOD:PUBLISH
END:VEVENT
END:VCALENDAR