BEGIN:VCALENDAR
VERSION:2.0
PRODID:spatie/icalendar-generator
DESCRIPTION:Events from Parroquia Castrense de Melilla
X-WR-CALDESC:Events from Parroquia Castrense de Melilla
REFRESH-INTERVAL;VALUE=DURATION:PT1440M
X-PUBLISHED-TTL:PT1440M
BEGIN:VTIMEZONE
TZID:Etc/GMT+0
BEGIN:STANDARD
DTSTART:20240314T193000Z
TZOFFSETFROM:+0000
TZOFFSETTO:+0000
END:STANDARD
END:VTIMEZONE
BEGIN:VTIMEZONE
TZID:UTC
BEGIN:STANDARD
DTSTART:20250725T115749Z
TZOFFSETFROM:+0000
TZOFFSETTO:+0000
END:STANDARD
END:VTIMEZONE
BEGIN:VEVENT
UID:50-50
DTSTAMP:20260421T115749Z
SUMMARY:Santa Misa retransmitida por Radio María – 9 de diciembre
LOCATION:Parroquia Castrense de Melilla Pablo Vallesca 4  Melilla Melilla 5
 2001
ORGANIZER;CN=Parroquia Castrense:MAILTO:parroquiacastrensedemelilla@gmail.c
 om
DTSTART;TZID=Etc/GMT+0:20241209T193000
DTEND;TZID=Etc/GMT+0:20241209T200000
X-ALT-DESC;FMTTYPE=TEXT/HTML:El lunes 9 de diciembre\, la Parroquia Castr
 ense de Melilla será el escenario de una Santa Misa retransmitida en d
 irecto por Radio María\, permitiendo que todos puedan participar\, inclu
 so desde la distancia. 🗓️ Fecha: Lunes\, 9 de diciembre 📍 Lugar:
  Parroquia Castrense de Melilla ⏰ Hora: Por confirmar Te invitamos a un
 irte en oración\, ya sea desde la parroquia o a través de Radio&amp;hellip\;
CATEGORIES:Eventos
URL;VALUE=URI:https://parroquiacastrensemelilla.es/mc-events/santa-misa-ret
 ransmitida-por-radio-maria-9-de-diciembre/
METHOD:PUBLISH
END:VEVENT
END:VCALENDAR