BEGIN:VCALENDAR
VERSION:2.0
PRODID:spatie/icalendar-generator
DESCRIPTION:Events from Parroquia Castrense de Melilla
X-WR-CALDESC:Events from Parroquia Castrense de Melilla
REFRESH-INTERVAL;VALUE=DURATION:PT1440M
X-PUBLISHED-TTL:PT1440M
BEGIN:VTIMEZONE
TZID:Etc/GMT+0
BEGIN:STANDARD
DTSTART:20240113T110000Z
TZOFFSETFROM:+0000
TZOFFSETTO:+0000
END:STANDARD
END:VTIMEZONE
BEGIN:VTIMEZONE
TZID:UTC
BEGIN:STANDARD
DTSTART:20250725T085409Z
TZOFFSETFROM:+0000
TZOFFSETTO:+0000
END:STANDARD
END:VTIMEZONE
BEGIN:VEVENT
UID:21-21
DTSTAMP:20260421T085409Z
SUMMARY:Celebración de la Petitoria a San Judas Tadeo
LOCATION:Parroquia Castrense de Melilla Pablo Vallesca 4  Melilla Melilla 5
 2001
ORGANIZER;CN=Parroquia Castrense:MAILTO:parroquiacastrensedemelilla@gmail.c
 om
DTSTART;TZID=Etc/GMT+0:20241009T110000
DTEND;TZID=Etc/GMT+0:20241009T193000
X-ALT-DESC;FMTTYPE=TEXT/HTML:Celebración de la Petitoria a San Judas Tadeo
  El próximo miércoles 9 de octubre\, nuestra parroquia castrense celebra
  su oración para rendir homenaje a San Judas Tadeo\, el santo de las caus
 as perdidas. Este es un momento especial en el que todos estamos invitados
  a acercarnos a la fe y a pedir la intercesión de&amp;hellip\;
CATEGORIES:Eventos
URL;VALUE=URI:https://parroquiacastrensemelilla.es/mc-events/celebracion-de
 -la-petitoria-a-san-judas-tadeo-2/
METHOD:PUBLISH
END:VEVENT
END:VCALENDAR