BEGIN:VCALENDAR
VERSION:2.0
PRODID:spatie/icalendar-generator
DESCRIPTION:Events from Parroquia Castrense de Melilla
X-WR-CALDESC:Events from Parroquia Castrense de Melilla
REFRESH-INTERVAL;VALUE=DURATION:PT1440M
X-PUBLISHED-TTL:PT1440M
BEGIN:VTIMEZONE
TZID:Etc/GMT+0
BEGIN:STANDARD
DTSTART:20230913T190000Z
TZOFFSETFROM:+0000
TZOFFSETTO:+0000
END:STANDARD
END:VTIMEZONE
BEGIN:VTIMEZONE
TZID:UTC
BEGIN:STANDARD
DTSTART:20250723T130941Z
TZOFFSETFROM:+0000
TZOFFSETTO:+0000
END:STANDARD
END:VTIMEZONE
BEGIN:VEVENT
UID:77-77
DTSTAMP:20260419T130941Z
SUMMARY:Santo Rosario por parte de Radio María 9 junio
LOCATION:Parroquia Castrense de Melilla Pablo Vallesca 4  Melilla Melilla 5
 2001
ORGANIZER;CN=Parroquia Castrense:MAILTO:parroquiacastrensedemelilla@gmail.c
 om
DTSTART;TZID=Etc/GMT+0:20240609T190000
DTEND;TZID=Etc/GMT+0:20240609T200000
X-ALT-DESC;FMTTYPE=TEXT/HTML:El próximo domingo 9 de junio a las 19:00h\, 
 te invitamos a unirte a un evento muy especial en la Parroquia Castrense d
 e Melilla. Radio María estará transmitiendo en vivo el Santo Rosario\, u
 n momento de oración y reflexión que reúne a la comunidad en un acto de
  fe y devoción. Esta es una maravillosa&amp;hellip\;
CATEGORIES:Eventos
URL;VALUE=URI:https://parroquiacastrensemelilla.es/mc-events/santo-rosario-
 por-parte-de-radio-maria-9-junio/
METHOD:PUBLISH
END:VEVENT
END:VCALENDAR